BEGIN:VCALENDAR
VERSION:2.0
PRODID:-//AEB - ECPv6.15.20//NONSGML v1.0//EN
CALSCALE:GREGORIAN
METHOD:PUBLISH
X-ORIGINAL-URL:https://engagedbuddhists.org.au
X-WR-CALDESC:Events for AEB
REFRESH-INTERVAL;VALUE=DURATION:PT1H
X-Robots-Tag:noindex
X-PUBLISHED-TTL:PT1H
BEGIN:VTIMEZONE
TZID:Australia/Sydney
BEGIN:STANDARD
TZOFFSETFROM:+1100
TZOFFSETTO:+1000
TZNAME:AEST
DTSTART:20200404T160000
END:STANDARD
BEGIN:DAYLIGHT
TZOFFSETFROM:+1000
TZOFFSETTO:+1100
TZNAME:AEDT
DTSTART:20201003T160000
END:DAYLIGHT
BEGIN:STANDARD
TZOFFSETFROM:+1100
TZOFFSETTO:+1000
TZNAME:AEST
DTSTART:20210403T160000
END:STANDARD
BEGIN:DAYLIGHT
TZOFFSETFROM:+1000
TZOFFSETTO:+1100
TZNAME:AEDT
DTSTART:20211002T160000
END:DAYLIGHT
BEGIN:STANDARD
TZOFFSETFROM:+1100
TZOFFSETTO:+1000
TZNAME:AEST
DTSTART:20220402T160000
END:STANDARD
BEGIN:DAYLIGHT
TZOFFSETFROM:+1000
TZOFFSETTO:+1100
TZNAME:AEDT
DTSTART:20221001T160000
END:DAYLIGHT
BEGIN:STANDARD
TZOFFSETFROM:+1100
TZOFFSETTO:+1000
TZNAME:AEST
DTSTART:20230401T160000
END:STANDARD
BEGIN:DAYLIGHT
TZOFFSETFROM:+1000
TZOFFSETTO:+1100
TZNAME:AEDT
DTSTART:20230930T160000
END:DAYLIGHT
END:VTIMEZONE
BEGIN:VEVENT
DTSTART;TZID=Australia/Sydney:20220421T193000
DTEND;TZID=Australia/Sydney:20220421T210000
DTSTAMP:20260424T104500
CREATED:20220414T023909Z
LAST-MODIFIED:20220414T024056Z
UID:2146-1650569400-1650574800@engagedbuddhists.org.au
SUMMARY:Bhante Tejadhammo
DESCRIPTION:Description\n\n\n\nBhante Tejadhammo will be back to greet you and give a Dhamma talk on 21 April at 7.30pm. Please join in to meet Bhante\, it has been awhile since we last heard from Bhante!!! \n\n\n\nSpeaker\n\n\n\nVenerable Tejadhammo Bhikku – Bhante to his community – is the Spiritual Director of the Association of Engaged Buddhists. Bhante teaches most Thursday nights at the Buddhist Library in Camperdownand conducts regular courses and retreats which are open to the general public\, and is regularly invited to teach other groups of ordained Sangha. Apart from these teaching and retreat activities\, Bhante works with people who are seriously ill in various hospitals\, hospices and their homes in and around Sydney\, teaching healing meditation\, providing spiritual support and assisting people in dealing with the end stages of life. \n\n\n\nVenerable Tejadhammo Bhikku was ordained by Venerable Tanchaokhun Phra Visalsalmanagun\, Chaokhana Changwat\, Phuket\, in Thailand. Bhante has a background in Western Philosophy and Theology\, and has studied and taught at Silpakorn University\, Thailand. Before returning to Australia he taught in Thai universities and jails. Although ordained in the Theravada tradition\, he has also studied with Tibetan and Mahayana teachers and has a commitment to the Dharma that he believes encompasses all traditional expressions of it. He is a founding member of Australian Monastic Encounter which seeks to promote inter-religious and inter monastic dialogue. \n\n\n\nInfo\n\n\n\nView live on Zoom from 7.25pm on the night. Talks include meditation and generally conclude at 9pm. Download iCal calendar for the Zoom event. \n\n\n\nMeeting ID: 985 1050 0274Passcode: 645945
URL:https://engagedbuddhists.org.au/event/bhante-tejadhammo/
CATEGORIES:Dhamma Talks and Meditation
ATTACH;FMTTYPE=image/jpeg:https://engagedbuddhists.org.au/wp-content/uploads/2022/04/Bhante-Teja-Back.jpg
END:VEVENT
BEGIN:VEVENT
DTSTART;TZID=Australia/Sydney:20220414T193000
DTEND;TZID=Australia/Sydney:20220414T210000
DTSTAMP:20260424T104500
CREATED:20220328T110106Z
LAST-MODIFIED:20220328T110108Z
UID:2130-1649964600-1649970000@engagedbuddhists.org.au
SUMMARY:Chand Sirimanne - The wings of the bird: combining concentration and awareness
DESCRIPTION:Description\n\n\n\nThe wings of the bird: Combining concentration (samādhi) and awareness (sati) – using different types of meditative practices. \n\n\n\n In Buddhism sati (mindfulness) is part and parcel of every type of meditative practice\, conduct and world view rather than a specific\, disengaged technique. It is also a positive mindset that we seek to cultivate rather than ordinary awareness that we use in every type of mental\, verbal and physical action including negative ones. After all\, one needs to be very mindful in carrying out criminal activities so as not to get caught! \n\n\n\nThe suttas describe this positive mindfulness and focused attention as the wings of a bird. The bird cannot fly with only one wing\, and it is well developed concentration that sharpens and strengthens mindfulness helping to cut through delusion. There is also nothing secular about a high level of concentration – we need it for doing any activity well. From driving\, cooking to learning a language. While focusing on the breath is excellent\, not everyone finds it easy to sustain their attention for any length of time especially at the start. Buddha himself is said to have stated that it is not for everyone\, and he recommended specific meditation types to suit different personalities. \n\n\n\nBuddhism has a range of meditative objects and subjects designed to improve levels of samādhi suitable for those who struggle with keeping their attention on the breath. \n\n\n\nWe welcome you to join us in this meditation & discussion series guided by Chand Sirimanne\, where we can learn some different techniques to improve our practice. We will have an opportunity to discuss & share our practice in a safe and supportive environment. \n\n\n\nSpeaker\n\n\n\nChand R. Sirimanne was born in Sri Lanka and migrated to Australia in 1990. She has worked as a freelance writer and an ESL instructor for over three decades mainly in Australia but also in Canada and Sri Lanka. Chand currently works as a writer/researcher\, and she has written and translated several articles and works on Buddhism. She has a MA in Applied Linguistics from Macquarie University and a PhD from the Department of Studies in Religion\, University of Sydney. Chand’s doctoral thesis was on The evolving relevance and therapeutic value of the ethico-psychological perspective of the mind-body complex and meditation in Theravāda Buddhism. She has been practising meditation since 2001. \n\n\n\nInfo\n\n\n\nView live on Zoom from 7.25pm on the night. Talks include meditation and generally conclude at 9pm. Download iCal calendar for the Zoom event. \n\n\n\nMeeting ID: 985 1050 0274Passcode: 645945
URL:https://engagedbuddhists.org.au/event/chand-sirimanne-the-wings-of-the-bird-combining-concentration-and-awareness/
CATEGORIES:Dhamma Talks and Meditation
ATTACH;FMTTYPE=image/png:https://engagedbuddhists.org.au/wp-content/uploads/2022/03/Meditation-Discussion-Chand.png
END:VEVENT
BEGIN:VEVENT
DTSTART;TZID=Australia/Sydney:20220407T193000
DTEND;TZID=Australia/Sydney:20220407T210000
DTSTAMP:20260424T104500
CREATED:20220328T105503Z
LAST-MODIFIED:20220328T110201Z
UID:2123-1649359800-1649365200@engagedbuddhists.org.au
SUMMARY:Bhante Pandit - Agency: how action shapes perception in the arising of experience
DESCRIPTION:Description\n\n\n\nThis topic is a continuation of the exploration of Dependent Origination. Previously we looked at how the mind picks up one thing at a time and reacts to it. But we Sapiens are not just reaction machines – we initiate and perpetuate actions deliberately. This too has a cascade effect in consciousness.Do not miss this opportunity to join us for this powerful and insightful teaching of Venerable Pandit Bhikkhu on Thursday 7 April\, 2022 -7.30pm. \n\n\n\nSpeaker\n\n\n\n\nPandit Bhikkhu: While searching aimlessly for something to read in a quiet library in rural New Zealand Pandit came across a book on Buddhism. Inspired to investigate further he devoured what few books on the topic he could find\, and then took off to start some monastery stays and short retreats. Before leaving NZ and heading back to his native England he took some longer retreats\, including 10 days at Te Moata retreat centre in the Coromandel Peninsula of NZ with Steven Smith teaching Mahasi style meditation. Following the Forest temples in the lineage of Luang Phor Chah for a few years\, Pandit entered Ratanagiri Monastery in Newcastle\, Northern UK in 1994 as an Anagarika (novice). Six months there\, and then six months further in Amaravati while Ajahn Sumedho was abbot\, convinced him to ordain as a monk. He headed off to Thailand in late 1996 and ordained as a Buddhist monk at Wat Luang Phor Sodh in Rajaburi Province. Four years later he moved to Wat Paknam\, Bhasicharoen in order to attend the monastic university\, gaining a degree in psychology. \n\n\n\nHaving had experience in meditation styles of  Mahasi Sayadaw\, Ajahn Chah\, Dhammakaya\, and some Tibetan\, Pandit Bhikkhu claims no lineage other than Buddhism. His own approach uses reflection on the six senses to hold the mind in empty alert awareness. But there are various techniques that are useful for people at different times in their practise. Just so long as you keep making an effort\, with the right goal in mind\, progress will be made. \n\n\n\nHis interests\, besides nuclear power\, vertical axis wind turbines and the Electric Universe theory\, include psychology\, faerie tales\, and other mystic religious traditions. \n\n\n\n\nInfo\n\n\n\nView live on Zoom from 7.25pm on the night. Talks include meditation and generally conclude at 9pm. Download iCal calendar for the Zoom event. \n\n\n\nMeeting ID: 985 1050 0274Passcode: 645945
URL:https://engagedbuddhists.org.au/event/bhante-pandit-agency-how-action-shapes-perception-in-the-arising-of-experience%ef%bf%bc/
CATEGORIES:Dhamma Talks and Meditation
ATTACH;FMTTYPE=image/png:https://engagedbuddhists.org.au/wp-content/uploads/2022/03/Bhante-Pandit-Agency.png
END:VEVENT
BEGIN:VEVENT
DTSTART;TZID=Australia/Sydney:20220324T193000
DTEND;TZID=Australia/Sydney:20220324T210000
DTSTAMP:20260424T104500
CREATED:20220317T075758Z
LAST-MODIFIED:20220317T075943Z
UID:2100-1648150200-1648155600@engagedbuddhists.org.au
SUMMARY:Equanimity and compassion in a changing world Part 1 - David O’Rose & Tina Ng
DESCRIPTION:Description\n\n\n\nWe are bombarded by devastating images of geopolitical instability\, climate change induced disasters\, economic uncertainty and a seemingly never ending pandemic. Does Buddhism offer an alternative way to view these challenges?  \n\n\n\nJoin Tina Ng and David O’Rose as they view this chaos from a refreshingly liberating perspective.  \n\n\n\nThere will be plenty of opportunities for discussions\, questions and sharing. \n\n\n\nSpeakers\n\n\n\nDavid O’Rose is an experienced leader of meditation groups\, both in Sydney and Hong Kong. His approach is utterly simple\, where the living experience of a meditative approach to everyday life is the aim of practice. \n\n\n\nTina Ng is the Founder and President of the Metta Centre and also the Principal Solicitor of Metta Legal\, a law firm that deals with cases relating to family law\, child protection\, property\, wills & estates\, civil litigation and guardianship matters. She is an accredited mediator at Metta Resolution\, which provides mediation\, training and coaching to resolve conflict in the community and within families. \n\n\n\nInfo\n\n\n\nView live on Zoom from 7.25pm on the night. Talks include meditation and generally conclude at 9pm. Download iCal calendar for the Zoom event. \n\n\n\nMeeting ID: 985 1050 0274Passcode: 645945
URL:https://engagedbuddhists.org.au/event/equanimity-and-compassion-in-a-changing-world-part-1-david-orose-tina-ng/
CATEGORIES:Dhamma Talks and Meditation
ATTACH;FMTTYPE=image/png:https://engagedbuddhists.org.au/wp-content/uploads/2022/03/Equanimity-and-compassion-in-a-changing-world-final.png
END:VEVENT
BEGIN:VEVENT
DTSTART;TZID=Australia/Sydney:20220317T193000
DTEND;TZID=Australia/Sydney:20220317T210000
DTSTAMP:20260424T104500
CREATED:20220216T062412Z
LAST-MODIFIED:20220328T105500Z
UID:1958-1647545400-1647550800@engagedbuddhists.org.au
SUMMARY:Thầy Thông Pháp - Dharma Lessons from the invasion of Ukraine
DESCRIPTION:Description\n\n\n\nInvasion and war are among the most terrible things people can do to one another. The consequences last for generations and\, now\, have the potential to destroy much life on Earth. \n\n\n\nDoes the Buddha Dharma speak to us through the war being waged in Ukraine? \n\n\n\nWe are very grateful that Thay Thich Truc Thong Phap once again brings us this timely “Dhamma lessons from the invasion of Ukaraine”. Thay’s teachings always bring warmth & comfort to people’s hearts\, especially during difficult times. \n\n\n\nSpeaker\n\n\n\nThích Trúc Thông Pháp is a bhikkhu (fully ordained monk) in a Vietnamese meditation tradition. His teacher is the Most Venerable Thầy Thích Thanh Từ\, a meditation master in the Truc Lam (Bamboo Forest) school. Originating from Port Adelaide in South Australia and then Tasmania from 2010- 2017\, he now lives in the Southern Flinders Ranges with a small community of Anglican religious brothers and sisters. He has a Master’s Degree in Social Sciences (Counselling) and a Diploma in Psychosynthesis and was the Buddhist representative chaplain at the University of Tasmania for four years prior to working for four years as the Buddhist chaplain at Oasis\, the multifaith chaplaincy centre at Flinders University\, SA. \n\n\n\nInfo\n\n\n\nView live on Zoom from 7.25pm on the night. Talks include meditation and generally conclude at 9pm. Download iCal calendar for the Zoom event. \n\n\n\nMeeting ID: 985 1050 0274Passcode: 645945
URL:https://engagedbuddhists.org.au/event/thay-thong-phap-finding-a-place-of-practice-in-every-moment/
CATEGORIES:Dhamma Talks and Meditation
ATTACH;FMTTYPE=image/png:https://engagedbuddhists.org.au/wp-content/uploads/2022/02/Thay-Thong-Phap-Ukarine-FB-1.png
END:VEVENT
BEGIN:VEVENT
DTSTART;TZID=Australia/Sydney:20220310T193000
DTEND;TZID=Australia/Sydney:20220310T210000
DTSTAMP:20260424T104500
CREATED:20220216T055032Z
LAST-MODIFIED:20220216T055034Z
UID:1952-1646940600-1646946000@engagedbuddhists.org.au
SUMMARY:Meditation & Discussion Session guided by Chand Sirimanne - How to Strengthen Mindfulness
DESCRIPTION:Description\n\n\n\nWhat can we do to strengthen mindfulness\, to improve its quality and broaden its scope? \n\n\n\nToday mindfulness\, or rather secular mindfulness\, is seen as a one size fits all technique that can help anyone with a range of issues. While even a very basic mindfulness practice can have positive outcomes. \n\n\n\nBuddhism offers numerous ways to strengthen and improve its quality and power. It offers a proactive way to improve the mind – slowly diminishing the Three Toxins – greed\, hatred and delusion\, and replacing them with generosity\, kindness and understanding of reality. \n\n\n\nSpeaker\n\n\n\nChand R. Sirimanne was born in Sri Lanka and migrated to Australia in 1990. She has worked as a freelance writer and an ESL instructor for over three decades mainly in Australia but also in Canada and Sri Lanka. Chand currently works as a writer/researcher\, and she has written and translated several articles and works on Buddhism. She has a MA in Applied Linguistics from Macquarie University and a PhD from the Department of Studies in Religion\, University of Sydney. Chand’s doctoral thesis was on The evolving relevance and therapeutic value of the ethico-psychological perspective of the mind-body complex and meditation in Therav?da Buddhism. She has been practising meditation since 2001. \n\n\n\nInfo\n\n\n\nView live on Zoom from 7.25pm on the night. Talks include meditation and generally conclude at 9pm. Download iCal calendar for the Zoom event. \n\n\n\nMeeting ID: 985 1050 0274Passcode: 645945
URL:https://engagedbuddhists.org.au/event/meditation-discussion-session-guided-by-chand-sirimanne-how-to-strengthen-mindfulness/
CATEGORIES:Dhamma Talks and Meditation
ATTACH;FMTTYPE=image/png:https://engagedbuddhists.org.au/wp-content/uploads/2022/02/Meditation-Discussion-Chand.png
END:VEVENT
BEGIN:VEVENT
DTSTART;TZID=Australia/Sydney:20220303T193000
DTEND;TZID=Australia/Sydney:20220303T210000
DTSTAMP:20260424T104500
CREATED:20220216T053811Z
LAST-MODIFIED:20220328T105314Z
UID:1940-1646335800-1646341200@engagedbuddhists.org.au
SUMMARY:Pandit Bhikkhu - The Mechanical Sakyamuni Buddha: A discussion on the Vibhajjavāda approach to enlightenment
DESCRIPTION:Description\n\n\n\nThe Mechanical Sakyamuni Buddha: A discussion on the Vibhajjavāda approach to enlightenment \n\n\n\nSpeaker\n\n\n\nPandit Bhikkhu: While searching aimlessly for something to read in a quiet library in rural New Zealand Pandit came across a book on Buddhism. Inspired to investigate further he devoured what few books on the topic he could find\, and then took off to start some monastery stays and short retreats. Before leaving NZ and heading back to his native England he took some longer retreats\, including 10 days at Te Moata retreat centre in the Coromandel Peninsula of NZ with Steven Smith teaching Mahasi style meditation. Following the Forest temples in the lineage of Luang Phor Chah for a few years\, Pandit entered Ratanagiri Monastery in Newcastle\, Northern UK in 1994 as an Anagarika (novice). Six months there\, and then six months further in Amaravati while Ajahn Sumedho was abbot\, convinced him to ordain as a monk. He headed off to Thailand in late 1996 and ordained as a Buddhist monk at Wat Luang Phor Sodh in Rajaburi Province. Four years later he moved to Wat Paknam\, Bhasicharoen in order to attend the monastic university\, gaining a degree in psychology. \n\n\n\nHaving had experience in meditation styles of  Mahasi Sayadaw\, Ajahn Chah\, Dhammakaya\, and some Tibetan\, Pandit Bhikkhu claims no lineage other than Buddhism. His own approach uses reflection on the six senses to hold the mind in empty alert awareness. But there are various techniques that are useful for people at different times in their practise. Just so long as you keep making an effort\, with the right goal in mind\, progress will be made. \n\n\n\nHis interests\, besides nuclear power\, vertical axis wind turbines and the Electric Universe theory\, include psychology\, faerie tales\, and other mystic religious traditions. \n\n\n\nInfo\n\n\n\nView live on Zoom from 7.25pm on the night. Talks include meditation and generally conclude at 9pm. Download iCal calendar for the Zoom event. \n\n\n\nMeeting ID: 985 1050 0274Passcode: 645945
URL:https://engagedbuddhists.org.au/event/pandit-bhikkhu-the-mechanical-sakyamuni-buddha-a-discussion-on-the-vibhajjavada-approach-to-enlightenment/
CATEGORIES:Dhamma Talks and Meditation
ATTACH;FMTTYPE=image/jpeg:https://engagedbuddhists.org.au/wp-content/uploads/2022/02/Bhante-Pandit-Mechanical-sakyamuni-FB.jpg
END:VEVENT
BEGIN:VEVENT
DTSTART;TZID=Australia/Sydney:20220224T193000
DTEND;TZID=Australia/Sydney:20220224T210000
DTSTAMP:20260424T104500
CREATED:20220117T063147Z
LAST-MODIFIED:20220201T053019Z
UID:1734-1645731000-1645736400@engagedbuddhists.org.au
SUMMARY:Bhante Akaliko - Shaded by A Great Tree: Faith in the Buddha’s Path
DESCRIPTION:Description\n\n\n\nSometimes it feels like we aren’t making any progress in our spiritual journey. We might lose confidence in our own abilities or think that the teachings simply don’t work. The Buddha often spoke about the necessity of faith but what did he mean by this term and how do we develop personal conviction in the Buddha’s path?  \n\n\n\nJoin Bhante Akaliko for a guided meditation and a discussion about the nature of faith in Buddhist thought. \n\n\n\nSpeaker\n\n\n\nAkaliko Bhikkhu is an Australian monk in the Theravada forest tradition. Bhante Akaliko first encountered Buddhism as a teenager and spent over twenty years practising in different traditions before taking full ordination with Ajahn Brahm as his preceptor at Bodhinyana monastery in 2016. He currently resides at Lokanta Vihara (the Monastery at the End of the World) in Sydney\, Australia. \n\n\n\nBhante Akaliko is the founder of Rainbodhi LGBTQIA+ Buddhist Community and a Buddhist chaplain at Western Sydney University. He is also on the board of directors of the Buddhist Council of NSW. \n\n\n\nInfo\n\n\n\nView live on Zoom from 7.25pm on the night. Talks include meditation and generally conclude at 9pm. Download iCal calendar for the Zoom event. \n\n\n\nMeeting ID: 985 1050 0274Passcode: 645945
URL:https://engagedbuddhists.org.au/event/bhante-akaliko-shaded-by-a-great-tree-faith-in-the-buddhas-path/
CATEGORIES:Dhamma Talks and Meditation
ATTACH;FMTTYPE=image/jpeg:https://engagedbuddhists.org.au/wp-content/uploads/2022/01/Similies-Bhante-Akaliko-FB.jpg
END:VEVENT
BEGIN:VEVENT
DTSTART;TZID=Australia/Sydney:20220217T193000
DTEND;TZID=Australia/Sydney:20220217T210000
DTSTAMP:20260424T104500
CREATED:20220201T011125Z
LAST-MODIFIED:20220201T053129Z
UID:1772-1645126200-1645131600@engagedbuddhists.org.au
SUMMARY:Sitting Together
DESCRIPTION:Description\n\n\n\nIn the Sitting Together sessions we will do meditation practice either in silence or with minimal guidance. There will be an opportunity for discussion and to chat with fellow meditators\, or ask questions about meditation practice. \n\n\n\nInfo\n\n\n\nView live on Zoom from 7.25pm on the night. Talks include meditation and generally conclude at 9pm. Download iCal calendar for the Zoom event. \n\n\n\nMeeting ID: 985 1050 0274Passcode: 645945
URL:https://engagedbuddhists.org.au/event/sitting-together/
CATEGORIES:Dhamma Talks and Meditation
ATTACH;FMTTYPE=image/jpeg:https://engagedbuddhists.org.au/wp-content/uploads/2022/02/SITTING-TOGETHER-1.jpg
END:VEVENT
BEGIN:VEVENT
DTSTART;TZID=Australia/Sydney:20220210T193000
DTEND;TZID=Australia/Sydney:20220210T210000
DTSTAMP:20260424T104500
CREATED:20220201T011035Z
LAST-MODIFIED:20220202T042455Z
UID:1775-1644521400-1644526800@engagedbuddhists.org.au
SUMMARY:David O'Rose - Simple Secret of Meditation
DESCRIPTION:Description\n\n\n\nMeditation & Discussion Session led by David O’Rose \n\n\n\nSpeaker\n\n\n\nDavid O’Rose is an experienced leader of meditation groups both here in Sydney and also Hong Kong. His approach is utterly simple\, natural and is a discipline of ease in practice. The living experience of a meditative approach to everyday life is the one aim of practice. The rewards of this simple practice are beyond words. \n\n\n\n\nInfo\n\n\n\nView live on Zoom from 7.25pm on the night. Talks include meditation and generally conclude at 9pm. Download iCal calendar for the Zoom event. \n\n\n\nMeeting ID: 985 1050 0274Passcode: 645945
URL:https://engagedbuddhists.org.au/event/david-orose-simple-secret-of-meditation/
CATEGORIES:Dhamma Talks and Meditation
ATTACH;FMTTYPE=image/png:https://engagedbuddhists.org.au/wp-content/uploads/2022/02/meditation_discussion_david_orose_2.png
END:VEVENT
BEGIN:VEVENT
DTSTART;TZID=Australia/Sydney:20220203T193000
DTEND;TZID=Australia/Sydney:20220203T210000
DTSTAMP:20260424T104500
CREATED:20220117T062527Z
LAST-MODIFIED:20220202T042518Z
UID:1731-1643916600-1643922000@engagedbuddhists.org.au
SUMMARY:Welcoming 2022 - New Year Blessing\, Puja & Chanting
DESCRIPTION:Description\n\n\n\nWelcoming 2022 – New Year Blessing\, Puja & Chanting led by Sue Toohey \n\n\n\nFacilitator\n\n\n\nSue Toohey is an experienced Dhamma\, meditation and yoga teacher\, qualified in both Hatha and Dru styles of yoga. She regularly takes meditation drop-in classes at the Buddhist Library. Formerly a university lecturer in the School of Public Health at UNSW\, she has a lifelong interest in using yoga to counteract depression and anxiety and develop mental well-being. She has been a Buddhist practitioner for more than 30 years. \n\n\n\n\nInfo\n\n\n\nView live on Zoom from 7.25pm on the night. Talks include meditation and generally conclude at 9pm. Download iCal calendar for the Zoom event. \n\n\n\nMeeting ID: 985 1050 0274Passcode: 645945
URL:https://engagedbuddhists.org.au/event/sue-toohey-talk-and-meditation/
CATEGORIES:Dhamma Talks and Meditation
ATTACH;FMTTYPE=image/jpeg:https://engagedbuddhists.org.au/wp-content/uploads/2022/01/Happy-New-Year-Puja.jpg
END:VEVENT
BEGIN:VEVENT
DTSTART;TZID=Australia/Sydney:20211209T193000
DTEND;TZID=Australia/Sydney:20211209T210000
DTSTAMP:20260424T104500
CREATED:20220117T064617Z
LAST-MODIFIED:20220201T051851Z
UID:1736-1639078200-1639083600@engagedbuddhists.org.au
SUMMARY:Bhante Akaliko - Similes of the Buddha: Visualising the Dhamma
DESCRIPTION:Due to COVID restrictions\, dhamma talks are being delivered over Zoom only for the time being. \n\n\n\nView live on Zoom from 7.25pm on the night. Talks generally conclude at 9pm. \n\n\n\nDownload iCal calendar. \n\n\n\nMeeting ID: 985 1050 0274Passcode: 645945\n\n\n\n\n\n\n\nTopic: Similes of the Buddha: Visualising the Dhamma \n\n\n\nPresenter: Bhante Akāliko \n\n\n\nDescription: The Buddha employed a rich repertoire of similes in his teaching to convey complex concepts in simple\, everyday terms that everyone could understand and remember easily. \n\n\n\nJoin Bhante Akāliko for this visual Dhamma presentation and explore the inspiring imagery of the suttas\, with similes that are profound\, meaningful and still relatable even today. Discover how we can utilise these images in our meditation and daily life to help us improve our understanding of the Dhamma. \n\n\n\n\nBhante Akāliko is a long term student of Bhante Sujato. He took ordination with Ajahn Brahm in Bodhinyana Monastery\, Perth. He is the founder of Rainbodhi LGBTQIA+ Buddhist Community. He is a Buddhist chaplain at Western Sydney University and on the Board of Directors of the Buddhist Council of NSW. \n\n\n\n\nView live on Zoom from 7.25pm on the night. Download iCal calendar. \n\n\n\nMeeting ID: 985 1050 0274Passcode: 645945
URL:https://engagedbuddhists.org.au/event/1736/
CATEGORIES:Dhamma Talks and Meditation
END:VEVENT
END:VCALENDAR